BEGIN:VCALENDAR
VERSION:2.0
BEGIN:VEVENT
CATEGORIES:Category,Community Events,Category,Native American Center,Category,Student Events,Location,Suns Room,featured,Yes
DESCRIPTION:Art that Uplifts Dream Warriors invites you to experience art with purpose. This collective of artists transforms passion into action, using creativity to uplift communities and inspire change. Through music, poetry, and storytelling, they remind us that following our gifts is not just personal, it&rsquo;s powerful. Artists:  Tall Paul - a Hip-Hop Anishinaabe and Oneida artist enrolled on the Leech Lake reservation in Minnesota. His music and art strongly reflect his inner-city upbringing and evokes a wide variety of substance, soul, and character. Tanaya Winder - an author, singer/songwriter, poet, motivational speaker and educator who comes from an intertribal lineage of Southern Ute, Pyramid Lake Paiute, Din&eacute; and Duckwater Shoshone Nations where she is an enrolled citizen. Her performances and talks emphasize the importance of &ldquo;heartwork&rdquo; &ndash; the life path one is meant to follow by using their gifts and passions. Twin City Tone - an Objibwe DJ/MC from St. Paul, Minnesota, known for his lyricism, flawless flow, and unique voice. He is part of the duo Red Poets Society (along with Tall Paul) and has shared the stage with the Black Eyed Peas, among others.  Dream Warriors is a non-profit collective of artists who believe in pursuing passions, dreams, and gifts to better loved ones and communities while also uplifting others. Founded by Tanaya Winder, and currently run by member Tall Paul, Dream Warriors is an innovate community created to bring together different talented artists, speakers, and educators who embody the values of what it means to be a Dream Warrior. Date November 17, 2025 Time 11:30 a.m. Location Suns Room
DTSTAMP:20260423T161330
DTSTART:20251117T113000
DTEND:20251117T133000
LOCATION:Suns Room
SUMMARY;LANGUAGE=en-us:Indigenous Artists Lunch Workshop and Performances 
UID:07d558571c889ec50451e2b19b6f80c4@www.sanjuancollege.edu
END:VEVENT
END:VCALENDAR

