BEGIN:VCALENDAR
VERSION:2.0
BEGIN:VEVENT
CATEGORIES:Category,Community Events,Location,Building Yard behind Trades and Technology,featured,Yes
DESCRIPTION:The San Juan College Building Trades Program is opening its yard for a special shed sale and open house. The community is invited to attend, support local students and take home a quality shed built with pride and skill. Proceeds from the sale go back into the Building Trades Program, helping future students gain valuable hands-on experience. What's for sale?  11 custom-built sheds (10x12) designed and built by students Features: insulation, drywall, finished floors, trim, closets, and some with cabinets Price: $5,500 each + tax First-come, first-served Payment by check or credit card on site  &ldquo;These sheds are the result of hard work and dedication from our talented students,&rdquo; said Zachary Pettijohn, assistant professor of the Building Trades Program. &ldquo;We&rsquo;re proud to showcase their craftsmanship.&rdquo; Buyers will be responsible for transporting the shed from the building yard to their desired location. Transports must take place Monday through Friday, 8 a.m. to 3 p.m. Date October 11, 2025 Time 8:00 a.m. -&nbsp; 12:00 p.m. Location Building Yard behind Trades and Technology
DTSTAMP:20260423T061905
DTSTART:20251011T080000
DTEND:20251011T120000
LOCATION:Building Yard behind Trades and Technology
SUMMARY;LANGUAGE=en-us:Shed Sale
UID:bcca06e22f2363e53e86ffa5898146ca@www.sanjuancollege.edu
END:VEVENT
END:VCALENDAR

