BEGIN:VCALENDAR
VERSION:2.0
BEGIN:VEVENT
CATEGORIES:Category,Community Events,Category,Student Events,Location,Enterprise Center,featured,Yes
DESCRIPTION:Fiber Fridays! From&nbsp;November 18&ndash;20, dive into hands-on workshops, inspiring sessions, and real-world insights designed to spark innovation and empower professionals, students, and startups alike. Discover how to lead with purpose, integrate AI into your workflow, explore startup finance, and turn local flavor into thriving business ventures. Whether you&rsquo;re an innovator, maker, or entrepreneur, Innovation Week offers the tools and inspiration to&nbsp;shape what&rsquo;s next&nbsp;in your career and community. Dates &amp; Times November 18, 2025 @ 12:00 p.m. - 4:30 p.m.November 19, 2025 @ 11:00 p.m. - 3:00 p.m.November 20, 2025 @ 11:30 p.m. - 3:00 p.m. Location Enterprise Center
DTSTAMP:20260423T062622
DTSTART:20251118T120000
DTEND:20251118T163000
LOCATION:Enterprise Center
SUMMARY;LANGUAGE=en-us:Innovation Week 2025: Shaping What&rsquo;s Next
UID:07ec0b9d5f05d0c2e4500ab6fe063f9f@www.sanjuancollege.edu
END:VEVENT
END:VCALENDAR

