BEGIN:VCALENDAR
VERSION:2.0
BEGIN:VEVENT
CATEGORIES:Category,Community Events,Category,Student Events,Location,Henderson Fine Arts Room 9012,featured,Yes
DESCRIPTION:Dark Matter, Dark Energy, and Einstein's Cosmological Constant Dark energy is the leading candidate for the mechanism that is responsible for causing the cosmological expansion to accelerate. A Fascinating Non-Technical Talk with Bharat Ratra What You'll Learn:  Explore how mztter is disturbed across the universe-on both large and small scales Learn how gravity and electric forces behave differently depending on the scale Discover how Einstein's general theory or relativity explains the expansion of the universe  Date October 27, 2025 Time 4:00 p.m. Location Henderson Fine Arts Room 9012
DTSTAMP:20260423T103536
DTSTART:20251027T160000
DTEND:20251027T180000
LOCATION:Henderson Fine Arts Room 9012
SUMMARY;LANGUAGE=en-us:The Accelerating Expanding Universe
UID:1ddf1eaa2f5c0bd31a8cc8d732001b68@www.sanjuancollege.edu
END:VEVENT
END:VCALENDAR

