BEGIN:VCALENDAR
VERSION:2.0
BEGIN:VEVENT
CATEGORIES:Category,Community Events,Category,Student Events,Location,Health and Human Performance Center
DESCRIPTION:Follow the Yellow Brick Road to Fun and Fitness! Join us for a Wizard of Oz&ndash;themed 5K trail run/walk or 1-mile fun walk, a magical morning open to all ages and fitness levels. Let your heart, brains, and courage lead the way to a day full of laughter, color, and community! Things To Know  Don't forget your packet pick-up! Friday, Nov. 7 (6 AM&ndash;6 PM at HHPC) or race day starting at 8 AM First 150 participants receive a themed shirt Kids Join Free! Under 13 with a registered adult (no shirt included) Dress as your favorite Oz character and strike a pose for prizes!  Let your heart, brains, and courage lead the way&mdash;follow the Yellow Brick Road to a morning of movement and magic! Date November 8, 2025 Time 8:00 a.m. Location
DTSTAMP:20260423T092055
DTSTART:20251108T090000
DTEND:20251108T230000
LOCATION:Health and Human Performance Center
SUMMARY;LANGUAGE=en-us:5K Trail Run/1 Mile Fun Walk
UID:59cb80ef9f1c8c744d1b266de6dbcd59@www.sanjuancollege.edu
END:VEVENT
END:VCALENDAR

