BEGIN:VCALENDAR
VERSION:2.0
BEGIN:VEVENT
CATEGORIES:Category,Community Events,Category,Employee Events,Category,Student Events,Location,800 S. Hutton Street,featured,Yes
DESCRIPTION:San Juan College will host a ribbon-cutting to celebrate the opening of its new classroom facility at the South Hutton Campus. The $1.4 million project was funded through an appropriation from the New Mexico Higher Education Department (HED), with support from the&nbsp;State of New Mexico&nbsp;and San Juan College. The new addition provides classroom space for Heavy Equipment Operator and Fire Science programs. Guests can enjoy fall refreshments, demonstrations, games, giveaways, and more as the college celebrates this major investment in student success and workforce education. Date October 17, 2025 Time 2:00 p.m. - 4:00 p.m. Location 800 S. Hutton Street
DTSTAMP:20260423T092136
DTSTART:20251017T140000
DTEND:20251017T160000
LOCATION:800 S. Hutton Street
SUMMARY;LANGUAGE=en-us:Fired Up &amp; Ready to Roll!
UID:9b736b6ffafe2c918a833aabfd6bb892@www.sanjuancollege.edu
END:VEVENT
END:VCALENDAR

