BEGIN:VCALENDAR
VERSION:2.0
BEGIN:VEVENT
CATEGORIES:Category,Community Events,Category,Fine and Performing Arts,Category,Native American Center,Category,Student Events,Location,Connie Gotsch Theatre,featured,Yes
DESCRIPTION:Experience History Through Music Immerse yourself in a powerful performance that blends music, theater, and history, featuring works by Native American composers. Performed by Francisca Mu&ntilde;oz and Alfonso Hern&aacute;ndez pianist, this event offers an unforgettable, educational journey through sound and story.&nbsp; This is a FREE Event! Date November 13, 2025 Time 5:30 p.m. Location Connie Gotsch Theatre
DTSTAMP:20260423T092608
DTSTART:20251113T173000
DTEND:20251113T193000
LOCATION:Connie Gotsch Theatre
SUMMARY;LANGUAGE=en-us:We Continue
UID:7ac8112d280c49400633f92519ae7c0e@www.sanjuancollege.edu
END:VEVENT
END:VCALENDAR

