BEGIN:VCALENDAR
VERSION:2.0
BEGIN:VEVENT
CATEGORIES:Category,Food for Thought,Category,Student Events,Location,Terrace outside Student Resource Center ,featured,Yes
DESCRIPTION:Cozy Fall Treats We&rsquo;re inviting all students to stop by the foyer for apple cider and cookies while learning more about our upcoming Holiday Food Distribution event. Enjoy some refreshments, connect with others, and find out how you can get involved in supporting our campus community this holiday season. Date November 5, 2025 Time 11:00 a.m. - 12:30 p.m. Location Terrace&nbsp;outside Student Resource Center&nbsp;
DTSTAMP:20260423T061952
DTSTART:20251105T110000
DTEND:20251105T123000
LOCATION:Terrace outside Student Resource Center&nbsp;
SUMMARY;LANGUAGE=en-us:Food for Thought: Apple Cider and Cookies!
UID:aa1e97f2f34e5314ea24b44b803796a4@www.sanjuancollege.edu
END:VEVENT
END:VCALENDAR

