BEGIN:VCALENDAR
VERSION:2.0
BEGIN:VEVENT
CATEGORIES:Category,Community Events,Category,Global Studies,Category,Student Events,Location,Room 1861,featured,Yes
DESCRIPTION:Journey Through Jordan Ehap Alahmead, from the School of Business, will give a presentation on the culture and long history of the country of Jordan.&nbsp; Located in the Near East between Saudi Arabia to the south and Syria to the north, with Israel to the west, Jordan has a wealth of culture and history dating back thousands of years as independent kingdoms and part of several empires. Date November 19, 2025 Time 3:00 p.m. - 4:15 p.m. Location Room 1861
DTSTAMP:20260423T061911
DTSTART:20251119T150000
DTEND:20251119T161500
LOCATION:Room 1861
SUMMARY;LANGUAGE=en-us:Jordan, the Past and the Future
UID:a9750a232f59b9a1c791fb633cb44b63@www.sanjuancollege.edu
END:VEVENT
END:VCALENDAR

