BEGIN:VCALENDAR
VERSION:2.0
BEGIN:VEVENT
CATEGORIES:Category,Art Gallery,Category,Community Events,Category,Fine and Performing Arts,Category,Student Events,Location,Henderson Fine Arts Center Gallery,featured,Yes
DESCRIPTION:Art in Color Experience the Stained glass pieces from the ENCORE Students. The Henderson Fine Art Gallery is pleased to once again bathe its walls in the jeweled aura from the creations of the SJC Stained Glass Encore students. These delicate works will take you on a groovy adventure by adding psychedelic waves of color and light. Utilizing both elements in traditional and innovative ways, each piece showcases a range of skills learned in class, from beginners to advanced. Add a unique piece to your home or find inspiration to take a creative class through the SJC Encore program.  Opening Reception  Thursday, November 20, 2025 3 - 5 p.m. The Gallery is open during the reception.  Exhibit Dates and Times  This exhibit will run from November 20th - December 18, 2025  Gallery Hours The Henderson Fine Arts Center Art Gallery is open Monday through Friday, from 10 a.m. to 5 p.m. and during most events in the Henderson Performance Hall 
DTSTAMP:20260423T092510
DTSTART:20251120T100000
DTEND:20251218T170000
LOCATION:Henderson Fine Arts Center Gallery
SUMMARY;LANGUAGE=en-us:A Magical Mystery Tour of Color and Light
UID:cd9f4215ccf3249f386c326f0e4dd9e8@www.sanjuancollege.edu
END:VEVENT
END:VCALENDAR

