BEGIN:VCALENDAR
VERSION:2.0
BEGIN:VEVENT
CATEGORIES:Category,TRIO SSS,Location,TRIO Student Support Services & STEM-H Department Room 1414 (central classroom complex)
DESCRIPTION:Ace Your Next Interview This interactive workshop will guide you through everything you need to know to make a confident first impression. What To Expect  The purpose and structure of different types of interviews Common questions interviewers ask (and how to answer them) Smart questions you can ask as an interviewee How to prepare effectively before the big day Tips on professional body language, tone, and dress  After the overview, you&rsquo;ll put your learning into action. Take turns being the interviewer and the interviewee in mock interview sessions, using real-world questions to practice both perspectives.&nbsp; Date November 3, 2025 Time 10:00 a.m. - 12:00 p.m. Location TRIO Student Support Services &amp; STEM-H Department Room 1414 (central classroom complex)
DTSTAMP:20260423T062112
DTSTART:20251103T100000
DTEND:20251103T120000
LOCATION:TRIO Student Support Services &amp; STEM-H Department Room 1414 (central classroom complex)
SUMMARY;LANGUAGE=en-us:Mock Interviews
UID:1ec9bdb55afd982cd5e3be95d6f93fa4@www.sanjuancollege.edu
END:VEVENT
END:VCALENDAR

