BEGIN:VCALENDAR
VERSION:2.0
BEGIN:VEVENT
CATEGORIES:Category,Student Events,Category,TRIO SSS,Location,TRIO Student Support Services & STEM-H Department Room 1414,featured,Yes
DESCRIPTION:Protect Your Wallet, Protect Your Future Learn how to identify predatory lending, recognize the red flags, and spot the common tactics used to trap consumers in debt. This session will cover the costs and types of high-risk lenders, along with practical strategies to avoid them and smarter alternatives to payday loans. Key Takeaways  Red flags that signal predatory or high-risk lending Common tricks used by lenders to keep you in debt How interest rates and fees really work Safer, smarter borrowing options and financial resources  Date November 5, 2025 Time 2:30 p.m. - 3:30 p.m.&nbsp; Location TRIO Student Support Services &amp; STEM-H Department Room 1414
DTSTAMP:20260423T161331
DTSTART:20251105T143000
DTEND:20251105T153000
LOCATION:TRIO Student Support Services &amp; STEM-H Department Room 1414
SUMMARY;LANGUAGE=en-us:Money Matters Financial Series: Predatory Lending
UID:6124abf524834b9ed5b1fe41afb6e0fc@www.sanjuancollege.edu
END:VEVENT
END:VCALENDAR

