BEGIN:VCALENDAR
VERSION:2.0
BEGIN:VEVENT
CATEGORIES:Category,TRIO SSS,Location,Online Only
DESCRIPTION:Build Confidence, Embrace Success Students will participate in an engaging workshop highlighting the psychological and emotional effects of self-doubt while offering practical strategies to reframe negative thinking, build confidence, and foster resilience. Key Takeaways  What imposter syndrome is and why it&rsquo;s so common among students The psychological and emotional effects of self-doubt How comparison and perfectionism fuel imposter feelings Practical tools to challenge limiting beliefs and boost self-trust  Date November 12, 2025 Time 8:00 a.m. - 9:00 a.m. Location Online Only
DTSTAMP:20260423T062254
DTSTART:20251112T080000
DTEND:20251112T090000
LOCATION:Online Only
SUMMARY;LANGUAGE=en-us:Imposter Syndrome
UID:09e07ac0b5ed793449dc470ab4c7f416@www.sanjuancollege.edu
END:VEVENT
END:VCALENDAR

