BEGIN:VCALENDAR
VERSION:2.0
BEGIN:VEVENT
CATEGORIES:Category,TRIO SSS,Location,TRIO Student Support Services & STEM-H Department Room 1414
DESCRIPTION:Building Success as a Tutor Gain ideas to create success among tutors by encouraging high efforts and avoid failure. Promotes work efforts and what teachers and tutors need to do. The PPT shares both good ideas, and how to succeed, Key Topics  What &ldquo;high effort&rdquo; really means &mdash; and why it matters more than talent How to encourage students who fear failure or give up easily Positive communication techniques that motivate learners Practical ideas tutors can use to inspire growth and resilience  Date November 18, 2025 Time 10:00 a.m. - 11:00 a.m. Location TRIO Student Support Services &amp; STEM-H Department Room 1414
DTSTAMP:20260423T103745
DTSTART:20251118T100000
DTEND:20251118T110000
LOCATION:TRIO Student Support Services &amp; STEM-H Department Room 1414
SUMMARY;LANGUAGE=en-us:Strategies for Dealing with Difficult People
UID:622743e34b674c379fad953f1fc11672@www.sanjuancollege.edu
END:VEVENT
END:VCALENDAR

