BEGIN:VCALENDAR
VERSION:2.0
BEGIN:VEVENT
CATEGORIES:Category,Student Events,Category,TRIO SSS,Location,TRIO Student Support Services & STEM-H Department Room 1414,featured,Yes
DESCRIPTION:How to Spot and Stop College Scams In this peer-led workshop, Kaitlynn Williams shares her real-life experience with scams, and the valuable lessons she learned along the way. Key Takeaways  Learn how to spot red flags Recognize the tactics scammers use Walk away empowered to protect your personal information, your finances, and your peace of mind  Date November 18, 2025 Time 2:00 p.m. - 3:00 p.m. Location TRIO Student Support Services &amp; STEM-H Department Room 1414
DTSTAMP:20260423T062255
DTSTART:20251119T140000
DTEND:20251119T150000
LOCATION:TRIO Student Support Services &amp; STEM-H Department Room 1414
SUMMARY;LANGUAGE=en-us:From Naive to Notified: What I Wish I Had Known Before I Was Scammed Presented by Kaitlynn Williams
UID:c005aea9c0dd9453e1cac3cb9d7a35a5@www.sanjuancollege.edu
END:VEVENT
END:VCALENDAR

