BEGIN:VCALENDAR
VERSION:2.0
BEGIN:VEVENT
CATEGORIES:Category,Student Events,Location,Transfer Center, Student Union Room 1606
DESCRIPTION:Come and Participate! Get information on our programs, how to make connections, transfer requirements, application process, portfolio requirements, and more! Date November 5, 2025 Time 10:00 a.m. - 12:00 p.m. Location Transfer Center, Student Union Room 1606
DTSTAMP:20260423T103851
DTSTART:20251105T100000
DTEND:20251105T120000
LOCATION:Transfer Center, Student Union Room 1606
SUMMARY;LANGUAGE=en-us:New York Film Academy
UID:ae1d54b82c5d11c231647d053d3ae5ae@www.sanjuancollege.edu
END:VEVENT
END:VCALENDAR

