BEGIN:VCALENDAR
VERSION:2.0
BEGIN:VEVENT
CATEGORIES:Category,Employee Events,Category,Student Events,Location,Tutoring Center Room 1611
DESCRIPTION:The Gamification in Education workshop aims to enable faculty and students to develop alternative learning methods utilizing modern analog gaming techniques. Using multimodal teaching methods and strategies aimed at differentiated learning perspectives.&nbsp; All materials will be provided. In this hands-on workshop, you will:  Learn how to use gamification to energize content interaction. Uses hands-on examples and how to create personalized materials.&nbsp; Develop interactive activities using modern gaming techniques  Date November 17, 2025 Time 1:00 p.m. - 3:00 p.m. Location Tutoring Center Room 1611
DTSTAMP:20260423T092505
DTSTART:20251117T130000
DTEND:20251117T150000
LOCATION:Tutoring Center Room 1611
SUMMARY;LANGUAGE=en-us:Gamification in Education
UID:37d9545d61eb3eccdfd753ebc609ac15@www.sanjuancollege.edu
END:VEVENT
END:VCALENDAR

