BEGIN:VCALENDAR
VERSION:2.0
BEGIN:VEVENT
CATEGORIES:Category,Artists Series,Category,Community Events,Category,Employee Events,Category,Student Events,Location,Henderson Fine Arts Center,featured,Yes
DESCRIPTION:Zak Mirz is bringing the world&rsquo;s first interactive, family-friendly magic show where YOU choose what happens next to Farmington!&nbsp; "Kid @ Heart" is unlike any magic show you&rsquo;ve ever seen.&nbsp; You&rsquo;ll find two types of people at a magic show &mdash; the believers and the skeptics. Whether you&rsquo;re a skeptic or a believer, YOU get to direct the show! This is a show that doesn&rsquo;t just entertain you&hellip; It lets you become part of the magic as it unfolds.&nbsp; Zak is a world-renowned magician known for his heartfelt storytelling and impossible magic. Fresh off the last season of America&rsquo;s Got Talent, he has quickly become one of the most innovative performers in the world. He&rsquo;s a Penn and Teller Fool Us winner, a magic advisor to David Blaine&rsquo;s The Magic Way, and the 2025 Rising Star in Magic Award recipient. Zak&rsquo;s work has taken him around the globe, and he&rsquo;s known for both his emotional storytelling and the unconventional ways he approaches the art of magic. Admissions  General Public: $5  Buy Tickets Date January 24, 2026 Time 2:00 p.m. Location Henderson Fine Arts Center
DTSTAMP:20260423T024625
DTSTART:20260124T140000
DTEND:20260124T160000
LOCATION:Henderson Fine Arts Center
SUMMARY;LANGUAGE=en-us:Kid at Heart
UID:3e1efb85e4b892a7694dafb03e10c2df@www.sanjuancollege.edu
END:VEVENT
END:VCALENDAR

