BEGIN:VCALENDAR
VERSION:2.0
BEGIN:VEVENT
CATEGORIES:Category,Community Events,Category,Student Events,Location,Arrowhead Center Studio G at San Juan College
DESCRIPTION:Entrepreneurial Education Certification These interactive sessions cover key entrepreneurial topics such as business planning, marketing, and funding strategies. While the workshops are tailored for students and recent alumni, anyone with an interest in entrepreneurship is welcome to attend and participate. Great Resume Builder, ideal for students interested in business, leadership, and innovation. Sign up for a Studio G membership today! Strong Prep for Hawk Tank Pitch Competition, builds skills and confidence ahead of next semester's competition. Dates &amp; Topics March 10, 2026 - Workshop 5: Marketing &amp; Sales March 12, 2026 - Workshop 6: Pitching and Storytelling Time 8:30 a.m. - 11:30 a.m. Location Arrowhead Center Studio G at San Juan College
DTSTAMP:20260423T062628
DTSTART:20260310T100000
DTEND:20260310T110000
LOCATION:Arrowhead Center Studio G at San Juan College
SUMMARY;LANGUAGE=en-us:Studio G Workshop
UID:267ebd127e7b915f91cea36d9b3fdbc6@www.sanjuancollege.edu
END:VEVENT
END:VCALENDAR

