BEGIN:VCALENDAR
VERSION:2.0
BEGIN:VEVENT
CATEGORIES:Category,Student Events,Location,Transfer Center, Located at The Student Center Building, Room 1606 or Zoom,featured,Yes
DESCRIPTION:Join us to hear all that WGU has to offer! If you're a San Juan College Student looking to grow your education and earn a bachelor's degree, please come by. Discover how our Transfer Center offers:  Expert guidance Academic planning Credit transfer assistance Application tips.  Bring your questions and leave with confidence about your path to transfer! Date December 10, 2025 Time 12:30 p.m. - 1:30 p.m. Location Transfer Center Located at The Student Center Building, Room 1606&nbsp; or Zoom
DTSTAMP:20260423T062552
DTSTART:20251210T123000
DTEND:20251210T133000
LOCATION:Transfer Center, Located at The Student Center Building, Room 1606 or Zoom
SUMMARY;LANGUAGE=en-us:Meet with Western Governors University!
UID:50394e8eff30a2f6388f9bfe72a419ea@www.sanjuancollege.edu
END:VEVENT
END:VCALENDAR

